BEGIN:VCALENDAR
VERSION:2.0
PRODID:-//SpeakUp SingOut - ECPv4.2.2//NONSGML v1.0//EN
CALSCALE:GREGORIAN
METHOD:PUBLISH
X-WR-CALNAME:SpeakUp SingOut
X-ORIGINAL-URL:http://www.speakupsingout.ie
X-WR-CALDESC:Events for SpeakUp SingOut
BEGIN:VEVENT
DTSTART;VALUE=DATE:20170703
DTEND;VALUE=DATE:20170707
DTSTAMP:20171106T080254
CREATED:20170609
LAST-MODIFIED:20170609
UID:468-1499040000-1499471999@www.speakupsingout.ie
SUMMARY:Shoco Summer Camp
DESCRIPTION:A summer camp for 7-12 year olds.  Activities include singing\, drama\, games\, cinema day\, sports\, arts and lots more.\n\n10am - 3pm daily\n\n€100 / €180 for 2 siblings.
URL:http://www.speakupsingout.ie/event/shock-summer-camp/
ATTACH;FMTTYPE=image/jpeg:http://www.speakupsingout.ie/wp-content/uploads/2017/06/18671398_1880577178860740_3842341686739251931_o.jpg
END:VEVENT
END:VCALENDAR