BEGIN:VCALENDAR
VERSION:2.0
PRODID:-//SpeakUp SingOut - ECPv4.2.2//NONSGML v1.0//EN
CALSCALE:GREGORIAN
METHOD:PUBLISH
X-WR-CALNAME:SpeakUp SingOut
X-ORIGINAL-URL:http://www.speakupsingout.ie
X-WR-CALDESC:Events for SpeakUp SingOut
BEGIN:VEVENT
DTSTART;TZID=UTC+1:20170626T190000
DTEND;TZID=UTC+1:20170626T213000
DTSTAMP:20171106T080202
CREATED:20170506T112804
LAST-MODIFIED:20170608T151109
UID:450-1498503600-1498512600@www.speakupsingout.ie
SUMMARY:Music Medicine Level One
DESCRIPTION:Inspired by my work with the Naked Voice\, the College of Sound Healing training and other healing modalities\, this course explores the potential of sound and song to help us within our lives. It is open to everyone regardless of experience of healing\, meditation or singing.\n\nSINGING AS MEDITATION\nThroughout the course\, we will look at different vocal practices and chants from around the world that help us to quieten the mind\, and deepen into connection with ourselves. Chanting helps us to shift into silence and peace in a beautiful and accessible way.\n\nMANTRA AND CONTEMPLATIVE MOVEMENT\nUsing the contemplative movements of Shintaido\, we will explore different mantras and their corresponding movements to deepen our experience of the sound and the silence.\n\nIMPROVISATION AND EXPLORATION OF OUR VOICES\nWe will have fun exploring different ways to access our own innate voices\, singing freely and improvising within a group setting and individually\, in a safe and non-judgemental way.\n\nINTRODUCTION TO THE CHAKRA SYSTEM THROUGH SOUND\nLearn how to use sound to strengthen your chakra system through sacred mantra\, and explore the different chakras and the energies that they contain\, through the musical scale and movement.\n\nWhether you are completely new to the world of sound or meditation\, or are a seasoned practitioner\, this course has something to offer everyone.\n\nPlaces are limited\, so advance booking is essential - you can contact Claire by email at speakupsingout@yahoo.com or by phone on 0861923381\n\nThe course costs €100 / €85 concession. This includes all supporting materials and recordings throughout the course.\n\nPlease note the next course begins on Monday 26 June and runs for 4 consecutive weeks.
URL:http://www.speakupsingout.ie/event/music-medicine-level-one/
ATTACH;FMTTYPE=image/jpeg:http://www.speakupsingout.ie/wp-content/uploads/2017/05/facebook_event_156281948238687.jpg
END:VEVENT
END:VCALENDAR