BEGIN:VCALENDAR
VERSION:2.0
PRODID:-//SpeakUp SingOut - ECPv4.2.2//NONSGML v1.0//EN
CALSCALE:GREGORIAN
METHOD:PUBLISH
X-WR-CALNAME:SpeakUp SingOut
X-ORIGINAL-URL:http://www.speakupsingout.ie
X-WR-CALDESC:Events for SpeakUp SingOut
BEGIN:VEVENT
DTSTART;TZID=UTC+1:20170519T193000
DTEND;TZID=UTC+1:20170519T220000
DTSTAMP:20171106T080107
CREATED:20170419T112448
LAST-MODIFIED:20170419T112448
UID:418-1495222200-1495231200@www.speakupsingout.ie
SUMMARY:SUSO Youth Choir in Concert
DESCRIPTION:SUSO Youth Choir are delighted to announce our annual showcase concert. After a fantastic year of amazing opportunities\, we are delighted to put on a show for our hometown community. With support from the SUSO Junior Choir\, it is guaranteed to be a great nights entertainment. Proceeds from this event will go towards a trip to a European choral festival next March where we hope to put Kilcock on the map representing young people singing. We would love your attendance at this event and we thank you for your ongoing support\n\nCost: €10\n\nDoors open at 7.30pm. See you then!
URL:http://www.speakupsingout.ie/event/suso-youth-choir-in-concert/
ATTACH;FMTTYPE=image/jpeg:http://www.speakupsingout.ie/wp-content/uploads/2017/04/facebook_event_210622039429400.jpg
END:VEVENT
END:VCALENDAR