BEGIN:VCALENDAR
VERSION:2.0
PRODID:-//SpeakUp SingOut - ECPv4.2.2//NONSGML v1.0//EN
CALSCALE:GREGORIAN
METHOD:PUBLISH
X-WR-CALNAME:SpeakUp SingOut
X-ORIGINAL-URL:http://www.speakupsingout.ie
X-WR-CALDESC:Events for SpeakUp SingOut
BEGIN:VEVENT
DTSTART;TZID=UTC+0:20170228T203000
DTEND;TZID=UTC+0:20170228T203000
DTSTAMP:20171106T080043
CREATED:20170220T112528
LAST-MODIFIED:20170220T112528
UID:404-1488313800-1488313800@www.speakupsingout.ie
SUMMARY:Singer Not Beginner Showcase
DESCRIPTION:We are delighted to invite you to this showcase for the current Singer Not Beginner course. Featuring a big array of styles and arrangements this promises to be an evening of musical delight. The participants have been working on their music development over the past 6 weeks and are very excited about sharing this experience with you. Come along and witness their journey and share in the joy that is showing up\, being seen and living in courage! \n\nThis showcase features:\n\nAnn Doherty\nBethan McKenna\nClaudia Ciocca \nDave Ralph\nEileen Hughes\nFiona Dalton \nFran Lennon \nFran Tracey \nMarie Brannick\nNyree Blackhall \nPaula Cashin \nRuarí O Coileáin\nSean White \nSiobhan Sweeney \n\nDoors at 8pm\, €10pp or €15 for two. \n\nSee you there!
URL:http://www.speakupsingout.ie/event/singer-not-beginner-showcase-2/
ATTACH;FMTTYPE=image/jpeg:http://www.speakupsingout.ie/wp-content/uploads/2017/02/facebook_event_650739391793347.jpg
END:VEVENT
END:VCALENDAR